BEGIN:VCALENDAR
VERSION:2.0
PRODID:-//College of Nursing Eksuth Alumni - ECPv6.15.12.2//NONSGML v1.0//EN
CALSCALE:GREGORIAN
METHOD:PUBLISH
X-WR-CALNAME:College of Nursing Eksuth Alumni
X-ORIGINAL-URL:https://collegeofnursingeksuthalumni.com
X-WR-CALDESC:Events for College of Nursing Eksuth Alumni
REFRESH-INTERVAL;VALUE=DURATION:PT1H
X-Robots-Tag:noindex
X-PUBLISHED-TTL:PT1H
BEGIN:VTIMEZONE
TZID:UTC
BEGIN:STANDARD
TZOFFSETFROM:+0000
TZOFFSETTO:+0000
TZNAME:UTC
DTSTART:20250101T000000
END:STANDARD
END:VTIMEZONE
BEGIN:VEVENT
DTSTART;TZID=UTC:20261111T080000
DTEND;TZID=UTC:20261111T170000
DTSTAMP:20260419T204213
CREATED:20251223T142534Z
LAST-MODIFIED:20251223T142709Z
UID:5231-1794384000-1794416400@collegeofnursingeksuthalumni.com
SUMMARY:Alumni Scholarship Award
DESCRIPTION:Alumni Scholarship Award\, 2026
URL:https://collegeofnursingeksuthalumni.com/event/alumni-scholarship-award/
CATEGORIES:Upcoming
END:VEVENT
END:VCALENDAR